Workbook

Sheet 月謝管理表
A1: 月謝管理表
A2: 年度 | B2: 2026 | C2: ← はじまりの年（4月の年）を入れます
A3: No | B3: 生徒名 | C3: 月額 | D3: 4月 | H3: 5月 | L3: 6月 | P3: 7月 | T3: 8月 | X3: 9月 | AB3: 10月 | AF3: 11月 | AJ3: 12月 | AN3: 1月 | AR3: 2月 | AV3: 3月 | AZ3: 年間合計 | BA3: 未納の月
D4: 金額 | E4: 受取日 | F4: 方法 | G4: メモ | H4: 金額 | I4: 受取日 | J4: 方法 | K4: メモ | L4: 金額 | M4: 受取日 | N4: 方法 | O4: メモ | P4: 金額 | Q4: 受取日 | R4: 方法 | S4: メモ | T4: 金額 | U4: 受取日 | V4: 方法 | W4: メモ | X4: 金額 | Y4: 受取日 | Z4: 方法 | AA4: メモ | AB4: 金額 | AC4: 受取日 | AD4: 方法 | AE4: メモ | AF4: 金額 | AG4: 受取日 | AH4: 方法 | AI4: メモ | AJ4: 金額 | AK4: 受取日 | AL4: 方法 | AM4: メモ | AN4: 金額 | AO4: 受取日 | AP4: 方法 | AQ4: メモ | AR4: 金額 | AS4: 受取日 | AT4: 方法 | AU4: メモ | AV4: 金額 | AW4: 受取日 | AX4: 方法 | AY4: メモ
A5: 1 | B5: 記入例）佐藤 みどり | C5: 8000 | D5: 8000 | E5: 46118 | F5: 現金 | H5: 8000 | I5: 46151 | J5: PayPay | O5: 休会 | P5: 8000 | Q5: 46207 | R5: 現金 | T5: 8000 | U5: 46235 | V5: 振込 | X5: 8000 | Y5: 46270 | Z5: 現金 | AZ5: =SUM(D5,H5,L5,P5,T5,X5,AB5,AF5,AJ5,AN5,AR5,AV5) | BA5: =IF($C5="","",AND(D5="",DATE($B$2,4,1)<=TODAY(),ISERROR(SEARCH("休会",G5)))*1+AND(H5="",DATE($B$2,5,1)<=TODAY(),ISERROR(SEARCH("休会",K5)))*1+AND(L5="",DATE($B$2,6,1)<=TODAY(),ISERROR(SEARCH("休会",O5)))*1+AND(P5="",DATE($B$2,7,1)<=TODAY(),ISERROR(SEARCH("休会",S5)))*1+AND(T5="",DATE($B$2,8,1)<=TODAY(),ISERROR(SEARCH("休会",W5)))*1+AND(X5="",DATE($B$2,9,1)<=TODAY(),ISERROR(SEARCH("休会",AA5)))*1+AND(AB5="",DATE($B$2,10,1)<=TODAY(),ISERROR(SEARCH("休会",AE5)))*1+AND(AF5="",DATE($B$2,11,1)<=TODAY(),ISERROR(SEARCH("休会",AI5)))*1+AND(AJ5="",DATE($B$2,12,1)<=TODAY(),ISERROR(SEARCH("休会",AM5)))*1+AND(AN5="",DATE($B$2,13,1)<=TODAY(),ISERROR(SEARCH("休会",AQ5)))*1+AND(AR5="",DATE($B$2,14,1)<=TODAY(),ISERROR(SEARCH("休会",AU5)))*1+AND(AV5="",DATE($B$2,15,1)<=TODAY(),ISERROR(SEARCH("休会",AY5)))*1)
A6: 2 | B6: 記入例）佐藤 ゆうと | C6: 6000 | D6: 6000 | E6: 46118 | F6: 現金 | G6: 兄弟割引 | H6: 6000 | I6: 46151 | J6: PayPay | K6: 兄弟割引 | L6: 3000 | M6: 46180 | N6: 現金 | O6: 残りは7月 | P6: 9000 | Q6: 46207 | R6: 現金 | S6: 6月分3,000含む | T6: 6000 | U6: 46235 | V6: 振込 | X6: 6000 | Y6: 46270 | Z6: 現金 | AZ6: =SUM(D6,H6,L6,P6,T6,X6,AB6,AF6,AJ6,AN6,AR6,AV6) | BA6: =IF($C6="","",AND(D6="",DATE($B$2,4,1)<=TODAY(),ISERROR(SEARCH("休会",G6)))*1+AND(H6="",DATE($B$2,5,1)<=TODAY(),ISERROR(SEARCH("休会",K6)))*1+AND(L6="",DATE($B$2,6,1)<=TODAY(),ISERROR(SEARCH("休会",O6)))*1+AND(P6="",DATE($B$2,7,1)<=TODAY(),ISERROR(SEARCH("休会",S6)))*1+AND(T6="",DATE($B$2,8,1)<=TODAY(),ISERROR(SEARCH("休会",W6)))*1+AND(X6="",DATE($B$2,9,1)<=TODAY(),ISERROR(SEARCH("休会",AA6)))*1+AND(AB6="",DATE($B$2,10,1)<=TODAY(),ISERROR(SEARCH("休会",AE6)))*1+AND(AF6="",DATE($B$2,11,1)<=TODAY(),ISERROR(SEARCH("休会",AI6)))*1+AND(AJ6="",DATE($B$2,12,1)<=TODAY(),ISERROR(SEARCH("休会",AM6)))*1+AND(AN6="",DATE($B$2,13,1)<=TODAY(),ISERROR(SEARCH("休会",AQ6)))*1+AND(AR6="",DATE($B$2,14,1)<=TODAY(),ISERROR(SEARCH("休会",AU6)))*1+AND(AV6="",DATE($B$2,15,1)<=TODAY(),ISERROR(SEARCH("休会",AY6)))*1)
A7: 3 | AZ7: =SUM(D7,H7,L7,P7,T7,X7,AB7,AF7,AJ7,AN7,AR7,AV7) | BA7: =IF($C7="","",AND(D7="",DATE($B$2,4,1)<=TODAY(),ISERROR(SEARCH("休会",G7)))*1+AND(H7="",DATE($B$2,5,1)<=TODAY(),ISERROR(SEARCH("休会",K7)))*1+AND(L7="",DATE($B$2,6,1)<=TODAY(),ISERROR(SEARCH("休会",O7)))*1+AND(P7="",DATE($B$2,7,1)<=TODAY(),ISERROR(SEARCH("休会",S7)))*1+AND(T7="",DATE($B$2,8,1)<=TODAY(),ISERROR(SEARCH("休会",W7)))*1+AND(X7="",DATE($B$2,9,1)<=TODAY(),ISERROR(SEARCH("休会",AA7)))*1+AND(AB7="",DATE($B$2,10,1)<=TODAY(),ISERROR(SEARCH("休会",AE7)))*1+AND(AF7="",DATE($B$2,11,1)<=TODAY(),ISERROR(SEARCH("休会",AI7)))*1+AND(AJ7="",DATE($B$2,12,1)<=TODAY(),ISERROR(SEARCH("休会",AM7)))*1+AND(AN7="",DATE($B$2,13,1)<=TODAY(),ISERROR(SEARCH("休会",AQ7)))*1+AND(AR7="",DATE($B$2,14,1)<=TODAY(),ISERROR(SEARCH("休会",AU7)))*1+AND(AV7="",DATE($B$2,15,1)<=TODAY(),ISERROR(SEARCH("休会",AY7)))*1)
A8: 4 | AZ8: =SUM(D8,H8,L8,P8,T8,X8,AB8,AF8,AJ8,AN8,AR8,AV8) | BA8: =IF($C8="","",AND(D8="",DATE($B$2,4,1)<=TODAY(),ISERROR(SEARCH("休会",G8)))*1+AND(H8="",DATE($B$2,5,1)<=TODAY(),ISERROR(SEARCH("休会",K8)))*1+AND(L8="",DATE($B$2,6,1)<=TODAY(),ISERROR(SEARCH("休会",O8)))*1+AND(P8="",DATE($B$2,7,1)<=TODAY(),ISERROR(SEARCH("休会",S8)))*1+AND(T8="",DATE($B$2,8,1)<=TODAY(),ISERROR(SEARCH("休会",W8)))*1+AND(X8="",DATE($B$2,9,1)<=TODAY(),ISERROR(SEARCH("休会",AA8)))*1+AND(AB8="",DATE($B$2,10,1)<=TODAY(),ISERROR(SEARCH("休会",AE8)))*1+AND(AF8="",DATE($B$2,11,1)<=TODAY(),ISERROR(SEARCH("休会",AI8)))*1+AND(AJ8="",DATE($B$2,12,1)<=TODAY(),ISERROR(SEARCH("休会",AM8)))*1+AND(AN8="",DATE($B$2,13,1)<=TODAY(),ISERROR(SEARCH("休会",AQ8)))*1+AND(AR8="",DATE($B$2,14,1)<=TODAY(),ISERROR(SEARCH("休会",AU8)))*1+AND(AV8="",DATE($B$2,15,1)<=TODAY(),ISERROR(SEARCH("休会",AY8)))*1)
A9: 5 | AZ9: =SUM(D9,H9,L9,P9,T9,X9,AB9,AF9,AJ9,AN9,AR9,AV9) | BA9: =IF($C9="","",AND(D9="",DATE($B$2,4,1)<=TODAY(),ISERROR(SEARCH("休会",G9)))*1+AND(H9="",DATE($B$2,5,1)<=TODAY(),ISERROR(SEARCH("休会",K9)))*1+AND(L9="",DATE($B$2,6,1)<=TODAY(),ISERROR(SEARCH("休会",O9)))*1+AND(P9="",DATE($B$2,7,1)<=TODAY(),ISERROR(SEARCH("休会",S9)))*1+AND(T9="",DATE($B$2,8,1)<=TODAY(),ISERROR(SEARCH("休会",W9)))*1+AND(X9="",DATE($B$2,9,1)<=TODAY(),ISERROR(SEARCH("休会",AA9)))*1+AND(AB9="",DATE($B$2,10,1)<=TODAY(),ISERROR(SEARCH("休会",AE9)))*1+AND(AF9="",DATE($B$2,11,1)<=TODAY(),ISERROR(SEARCH("休会",AI9)))*1+AND(AJ9="",DATE($B$2,12,1)<=TODAY(),ISERROR(SEARCH("休会",AM9)))*1+AND(AN9="",DATE($B$2,13,1)<=TODAY(),ISERROR(SEARCH("休会",AQ9)))*1+AND(AR9="",DATE($B$2,14,1)<=TODAY(),ISERROR(SEARCH("休会",AU9)))*1+AND(AV9="",DATE($B$2,15,1)<=TODAY(),ISERROR(SEARCH("休会",AY9)))*1)
A10: 6 | AZ10: =SUM(D10,H10,L10,P10,T10,X10,AB10,AF10,AJ10,AN10,AR10,AV10) | BA10: =IF($C10="","",AND(D10="",DATE($B$2,4,1)<=TODAY(),ISERROR(SEARCH("休会",G10)))*1+AND(H10="",DATE($B$2,5,1)<=TODAY(),ISERROR(SEARCH("休会",K10)))*1+AND(L10="",DATE($B$2,6,1)<=TODAY(),ISERROR(SEARCH("休会",O10)))*1+AND(P10="",DATE($B$2,7,1)<=TODAY(),ISERROR(SEARCH("休会",S10)))*1+AND(T10="",DATE($B$2,8,1)<=TODAY(),ISERROR(SEARCH("休会",W10)))*1+AND(X10="",DATE($B$2,9,1)<=TODAY(),ISERROR(SEARCH("休会",AA10)))*1+AND(AB10="",DATE($B$2,10,1)<=TODAY(),ISERROR(SEARCH("休会",AE10)))*1+AND(AF10="",DATE($B$2,11,1)<=TODAY(),ISERROR(SEARCH("休会",AI10)))*1+AND(AJ10="",DATE($B$2,12,1)<=TODAY(),ISERROR(SEARCH("休会",AM10)))*1+AND(AN10="",DATE($B$2,13,1)<=TODAY(),ISERROR(SEARCH("休会",AQ10)))*1+AND(AR10="",DATE($B$2,14,1)<=TODAY(),ISERROR(SEARCH("休会",AU10)))*1+AND(AV10="",DATE($B$2,15,1)<=TODAY(),ISERROR(SEARCH("休会",AY10)))*1)
A11: 7 | AZ11: =SUM(D11,H11,L11,P11,T11,X11,AB11,AF11,AJ11,AN11,AR11,AV11) | BA11: =IF($C11="","",AND(D11="",DATE($B$2,4,1)<=TODAY(),ISERROR(SEARCH("休会",G11)))*1+AND(H11="",DATE($B$2,5,1)<=TODAY(),ISERROR(SEARCH("休会",K11)))*1+AND(L11="",DATE($B$2,6,1)<=TODAY(),ISERROR(SEARCH("休会",O11)))*1+AND(P11="",DATE($B$2,7,1)<=TODAY(),ISERROR(SEARCH("休会",S11)))*1+AND(T11="",DATE($B$2,8,1)<=TODAY(),ISERROR(SEARCH("休会",W11)))*1+AND(X11="",DATE($B$2,9,1)<=TODAY(),ISERROR(SEARCH("休会",AA11)))*1+AND(AB11="",DATE($B$2,10,1)<=TODAY(),ISERROR(SEARCH("休会",AE11)))*1+AND(AF11="",DATE($B$2,11,1)<=TODAY(),ISERROR(SEARCH("休会",AI11)))*1+AND(AJ11="",DATE($B$2,12,1)<=TODAY(),ISERROR(SEARCH("休会",AM11)))*1+AND(AN11="",DATE($B$2,13,1)<=TODAY(),ISERROR(SEARCH("休会",AQ11)))*1+AND(AR11="",DATE($B$2,14,1)<=TODAY(),ISERROR(SEARCH("休会",AU11)))*1+AND(AV11="",DATE($B$2,15,1)<=TODAY(),ISERROR(SEARCH("休会",AY11)))*1)
A12: 8 | AZ12: =SUM(D12,H12,L12,P12,T12,X12,AB12,AF12,AJ12,AN12,AR12,AV12) | BA12: =IF($C12="","",AND(D12="",DATE($B$2,4,1)<=TODAY(),ISERROR(SEARCH("休会",G12)))*1+AND(H12="",DATE($B$2,5,1)<=TODAY(),ISERROR(SEARCH("休会",K12)))*1+AND(L12="",DATE($B$2,6,1)<=TODAY(),ISERROR(SEARCH("休会",O12)))*1+AND(P12="",DATE($B$2,7,1)<=TODAY(),ISERROR(SEARCH("休会",S12)))*1+AND(T12="",DATE($B$2,8,1)<=TODAY(),ISERROR(SEARCH("休会",W12)))*1+AND(X12="",DATE($B$2,9,1)<=TODAY(),ISERROR(SEARCH("休会",AA12)))*1+AND(AB12="",DATE($B$2,10,1)<=TODAY(),ISERROR(SEARCH("休会",AE12)))*1+AND(AF12="",DATE($B$2,11,1)<=TODAY(),ISERROR(SEARCH("休会",AI12)))*1+AND(AJ12="",DATE($B$2,12,1)<=TODAY(),ISERROR(SEARCH("休会",AM12)))*1+AND(AN12="",DATE($B$2,13,1)<=TODAY(),ISERROR(SEARCH("休会",AQ12)))*1+AND(AR12="",DATE($B$2,14,1)<=TODAY(),ISERROR(SEARCH("休会",AU12)))*1+AND(AV12="",DATE($B$2,15,1)<=TODAY(),ISERROR(SEARCH("休会",AY12)))*1)
A13: 9 | AZ13: =SUM(D13,H13,L13,P13,T13,X13,AB13,AF13,AJ13,AN13,AR13,AV13) | BA13: =IF($C13="","",AND(D13="",DATE($B$2,4,1)<=TODAY(),ISERROR(SEARCH("休会",G13)))*1+AND(H13="",DATE($B$2,5,1)<=TODAY(),ISERROR(SEARCH("休会",K13)))*1+AND(L13="",DATE($B$2,6,1)<=TODAY(),ISERROR(SEARCH("休会",O13)))*1+AND(P13="",DATE($B$2,7,1)<=TODAY(),ISERROR(SEARCH("休会",S13)))*1+AND(T13="",DATE($B$2,8,1)<=TODAY(),ISERROR(SEARCH("休会",W13)))*1+AND(X13="",DATE($B$2,9,1)<=TODAY(),ISERROR(SEARCH("休会",AA13)))*1+AND(AB13="",DATE($B$2,10,1)<=TODAY(),ISERROR(SEARCH("休会",AE13)))*1+AND(AF13="",DATE($B$2,11,1)<=TODAY(),ISERROR(SEARCH("休会",AI13)))*1+AND(AJ13="",DATE($B$2,12,1)<=TODAY(),ISERROR(SEARCH("休会",AM13)))*1+AND(AN13="",DATE($B$2,13,1)<=TODAY(),ISERROR(SEARCH("休会",AQ13)))*1+AND(AR13="",DATE($B$2,14,1)<=TODAY(),ISERROR(SEARCH("休会",AU13)))*1+AND(AV13="",DATE($B$2,15,1)<=TODAY(),ISERROR(SEARCH("休会",AY13)))*1)
A14: 10 | AZ14: =SUM(D14,H14,L14,P14,T14,X14,AB14,AF14,AJ14,AN14,AR14,AV14) | BA14: =IF($C14="","",AND(D14="",DATE($B$2,4,1)<=TODAY(),ISERROR(SEARCH("休会",G14)))*1+AND(H14="",DATE($B$2,5,1)<=TODAY(),ISERROR(SEARCH("休会",K14)))*1+AND(L14="",DATE($B$2,6,1)<=TODAY(),ISERROR(SEARCH("休会",O14)))*1+AND(P14="",DATE($B$2,7,1)<=TODAY(),ISERROR(SEARCH("休会",S14)))*1+AND(T14="",DATE($B$2,8,1)<=TODAY(),ISERROR(SEARCH("休会",W14)))*1+AND(X14="",DATE($B$2,9,1)<=TODAY(),ISERROR(SEARCH("休会",AA14)))*1+AND(AB14="",DATE($B$2,10,1)<=TODAY(),ISERROR(SEARCH("休会",AE14)))*1+AND(AF14="",DATE($B$2,11,1)<=TODAY(),ISERROR(SEARCH("休会",AI14)))*1+AND(AJ14="",DATE($B$2,12,1)<=TODAY(),ISERROR(SEARCH("休会",AM14)))*1+AND(AN14="",DATE($B$2,13,1)<=TODAY(),ISERROR(SEARCH("休会",AQ14)))*1+AND(AR14="",DATE($B$2,14,1)<=TODAY(),ISERROR(SEARCH("休会",AU14)))*1+AND(AV14="",DATE($B$2,15,1)<=TODAY(),ISERROR(SEARCH("休会",AY14)))*1)
A15: 11 | AZ15: =SUM(D15,H15,L15,P15,T15,X15,AB15,AF15,AJ15,AN15,AR15,AV15) | BA15: =IF($C15="","",AND(D15="",DATE($B$2,4,1)<=TODAY(),ISERROR(SEARCH("休会",G15)))*1+AND(H15="",DATE($B$2,5,1)<=TODAY(),ISERROR(SEARCH("休会",K15)))*1+AND(L15="",DATE($B$2,6,1)<=TODAY(),ISERROR(SEARCH("休会",O15)))*1+AND(P15="",DATE($B$2,7,1)<=TODAY(),ISERROR(SEARCH("休会",S15)))*1+AND(T15="",DATE($B$2,8,1)<=TODAY(),ISERROR(SEARCH("休会",W15)))*1+AND(X15="",DATE($B$2,9,1)<=TODAY(),ISERROR(SEARCH("休会",AA15)))*1+AND(AB15="",DATE($B$2,10,1)<=TODAY(),ISERROR(SEARCH("休会",AE15)))*1+AND(AF15="",DATE($B$2,11,1)<=TODAY(),ISERROR(SEARCH("休会",AI15)))*1+AND(AJ15="",DATE($B$2,12,1)<=TODAY(),ISERROR(SEARCH("休会",AM15)))*1+AND(AN15="",DATE($B$2,13,1)<=TODAY(),ISERROR(SEARCH("休会",AQ15)))*1+AND(AR15="",DATE($B$2,14,1)<=TODAY(),ISERROR(SEARCH("休会",AU15)))*1+AND(AV15="",DATE($B$2,15,1)<=TODAY(),ISERROR(SEARCH("休会",AY15)))*1)
A16: 12 | AZ16: =SUM(D16,H16,L16,P16,T16,X16,AB16,AF16,AJ16,AN16,AR16,AV16) | BA16: =IF($C16="","",AND(D16="",DATE($B$2,4,1)<=TODAY(),ISERROR(SEARCH("休会",G16)))*1+AND(H16="",DATE($B$2,5,1)<=TODAY(),ISERROR(SEARCH("休会",K16)))*1+AND(L16="",DATE($B$2,6,1)<=TODAY(),ISERROR(SEARCH("休会",O16)))*1+AND(P16="",DATE($B$2,7,1)<=TODAY(),ISERROR(SEARCH("休会",S16)))*1+AND(T16="",DATE($B$2,8,1)<=TODAY(),ISERROR(SEARCH("休会",W16)))*1+AND(X16="",DATE($B$2,9,1)<=TODAY(),ISERROR(SEARCH("休会",AA16)))*1+AND(AB16="",DATE($B$2,10,1)<=TODAY(),ISERROR(SEARCH("休会",AE16)))*1+AND(AF16="",DATE($B$2,11,1)<=TODAY(),ISERROR(SEARCH("休会",AI16)))*1+AND(AJ16="",DATE($B$2,12,1)<=TODAY(),ISERROR(SEARCH("休会",AM16)))*1+AND(AN16="",DATE($B$2,13,1)<=TODAY(),ISERROR(SEARCH("休会",AQ16)))*1+AND(AR16="",DATE($B$2,14,1)<=TODAY(),ISERROR(SEARCH("休会",AU16)))*1+AND(AV16="",DATE($B$2,15,1)<=TODAY(),ISERROR(SEARCH("休会",AY16)))*1)
A17: 13 | AZ17: =SUM(D17,H17,L17,P17,T17,X17,AB17,AF17,AJ17,AN17,AR17,AV17) | BA17: =IF($C17="","",AND(D17="",DATE($B$2,4,1)<=TODAY(),ISERROR(SEARCH("休会",G17)))*1+AND(H17="",DATE($B$2,5,1)<=TODAY(),ISERROR(SEARCH("休会",K17)))*1+AND(L17="",DATE($B$2,6,1)<=TODAY(),ISERROR(SEARCH("休会",O17)))*1+AND(P17="",DATE($B$2,7,1)<=TODAY(),ISERROR(SEARCH("休会",S17)))*1+AND(T17="",DATE($B$2,8,1)<=TODAY(),ISERROR(SEARCH("休会",W17)))*1+AND(X17="",DATE($B$2,9,1)<=TODAY(),ISERROR(SEARCH("休会",AA17)))*1+AND(AB17="",DATE($B$2,10,1)<=TODAY(),ISERROR(SEARCH("休会",AE17)))*1+AND(AF17="",DATE($B$2,11,1)<=TODAY(),ISERROR(SEARCH("休会",AI17)))*1+AND(AJ17="",DATE($B$2,12,1)<=TODAY(),ISERROR(SEARCH("休会",AM17)))*1+AND(AN17="",DATE($B$2,13,1)<=TODAY(),ISERROR(SEARCH("休会",AQ17)))*1+AND(AR17="",DATE($B$2,14,1)<=TODAY(),ISERROR(SEARCH("休会",AU17)))*1+AND(AV17="",DATE($B$2,15,1)<=TODAY(),ISERROR(SEARCH("休会",AY17)))*1)
A18: 14 | AZ18: =SUM(D18,H18,L18,P18,T18,X18,AB18,AF18,AJ18,AN18,AR18,AV18) | BA18: =IF($C18="","",AND(D18="",DATE($B$2,4,1)<=TODAY(),ISERROR(SEARCH("休会",G18)))*1+AND(H18="",DATE($B$2,5,1)<=TODAY(),ISERROR(SEARCH("休会",K18)))*1+AND(L18="",DATE($B$2,6,1)<=TODAY(),ISERROR(SEARCH("休会",O18)))*1+AND(P18="",DATE($B$2,7,1)<=TODAY(),ISERROR(SEARCH("休会",S18)))*1+AND(T18="",DATE($B$2,8,1)<=TODAY(),ISERROR(SEARCH("休会",W18)))*1+AND(X18="",DATE($B$2,9,1)<=TODAY(),ISERROR(SEARCH("休会",AA18)))*1+AND(AB18="",DATE($B$2,10,1)<=TODAY(),ISERROR(SEARCH("休会",AE18)))*1+AND(AF18="",DATE($B$2,11,1)<=TODAY(),ISERROR(SEARCH("休会",AI18)))*1+AND(AJ18="",DATE($B$2,12,1)<=TODAY(),ISERROR(SEARCH("休会",AM18)))*1+AND(AN18="",DATE($B$2,13,1)<=TODAY(),ISERROR(SEARCH("休会",AQ18)))*1+AND(AR18="",DATE($B$2,14,1)<=TODAY(),ISERROR(SEARCH("休会",AU18)))*1+AND(AV18="",DATE($B$2,15,1)<=TODAY(),ISERROR(SEARCH("休会",AY18)))*1)
... A34: 30 | AZ34: =SUM(D34,H34,L34,P34,T34,X34,AB34,AF34,AJ34,AN34,AR34,AV34) | BA34: =IF($C34="","",AND(D34="",DATE($B$2,4,1)<=TODAY(),ISERROR(SEARCH("休会",G34)))*1+AND(H34="",DATE($B$2,5,1)<=TODAY(),ISERROR(SEARCH("休会",K34)))*1+AND(L34="",DATE($B$2,6,1)<=TODAY(),ISERROR(SEARCH("休会",O34)))*1+AND(P34="",DATE($B$2,7,1)<=TODAY(),ISERROR(SEARCH("休会",S34)))*1+AND(T34="",DATE($B$2,8,1)<=TODAY(),ISERROR(SEARCH("休会",W34)))*1+AND(X34="",DATE($B$2,9,1)<=TODAY(),ISERROR(SEARCH("休会",AA34)))*1+AND(AB34="",DATE($B$2,10,1)<=TODAY(),ISERROR(SEARCH("休会",AE34)))*1+AND(AF34="",DATE($B$2,11,1)<=TODAY(),ISERROR(SEARCH("休会",AI34)))*1+AND(AJ34="",DATE($B$2,12,1)<=TODAY(),ISERROR(SEARCH("休会",AM34)))*1+AND(AN34="",DATE($B$2,13,1)<=TODAY(),ISERROR(SEARCH("休会",AQ34)))*1+AND(AR34="",DATE($B$2,14,1)<=TODAY(),ISERROR(SEARCH("休会",AU34)))*1+AND(AV34="",DATE($B$2,15,1)<=TODAY(),ISERROR(SEARCH("休会",AY34)))*1)
A35: 合計 | D35: =SUM(D5:D34) | H35: =SUM(H5:H34) | L35: =SUM(L5:L34) | P35: =SUM(P5:P34) | T35: =SUM(T5:T34) | X35: =SUM(X5:X34) | AB35: =SUM(AB5:AB34) | AF35: =SUM(AF5:AF34) | AJ35: =SUM(AJ5:AJ34) | AN35: =SUM(AN5:AN34) | AR35: =SUM(AR5:AR34) | AV35: =SUM(AV5:AV34) | AZ35: =SUM(AZ5:AZ34)

Sheet 月別の集計
A1: 月別の集計（自動で計算されます）
A3: 月 | B3: 受け取り合計 | C3: 現金 | D3: 振込 | E3: PayPay | F3: 未納の人数
A4: 4月 | B4: =SUM('月謝管理表'!$D$5:$D$34) | C4: =SUMIF('月謝管理表'!$F$5:$F$34,"現金",'月謝管理表'!$D$5:$D$34) | D4: =SUMIF('月謝管理表'!$F$5:$F$34,"振込",'月謝管理表'!$D$5:$D$34) | E4: =SUMIF('月謝管理表'!$F$5:$F$34,"PayPay",'月謝管理表'!$D$5:$D$34) | F4: =IF(DATE('月謝管理表'!$B$2,4,1)>TODAY(),"",SUMPRODUCT(('月謝管理表'!$C$5:$C$34<>"")*('月謝管理表'!$D$5:$D$34="")*ISERROR(SEARCH("休会",'月謝管理表'!$G$5:$G$34))))
A5: 5月 | B5: =SUM('月謝管理表'!$H$5:$H$34) | C5: =SUMIF('月謝管理表'!$J$5:$J$34,"現金",'月謝管理表'!$H$5:$H$34) | D5: =SUMIF('月謝管理表'!$J$5:$J$34,"振込",'月謝管理表'!$H$5:$H$34) | E5: =SUMIF('月謝管理表'!$J$5:$J$34,"PayPay",'月謝管理表'!$H$5:$H$34) | F5: =IF(DATE('月謝管理表'!$B$2,5,1)>TODAY(),"",SUMPRODUCT(('月謝管理表'!$C$5:$C$34<>"")*('月謝管理表'!$H$5:$H$34="")*ISERROR(SEARCH("休会",'月謝管理表'!$K$5:$K$34))))
A6: 6月 | B6: =SUM('月謝管理表'!$L$5:$L$34) | C6: =SUMIF('月謝管理表'!$N$5:$N$34,"現金",'月謝管理表'!$L$5:$L$34) | D6: =SUMIF('月謝管理表'!$N$5:$N$34,"振込",'月謝管理表'!$L$5:$L$34) | E6: =SUMIF('月謝管理表'!$N$5:$N$34,"PayPay",'月謝管理表'!$L$5:$L$34) | F6: =IF(DATE('月謝管理表'!$B$2,6,1)>TODAY(),"",SUMPRODUCT(('月謝管理表'!$C$5:$C$34<>"")*('月謝管理表'!$L$5:$L$34="")*ISERROR(SEARCH("休会",'月謝管理表'!$O$5:$O$34))))
A7: 7月 | B7: =SUM('月謝管理表'!$P$5:$P$34) | C7: =SUMIF('月謝管理表'!$R$5:$R$34,"現金",'月謝管理表'!$P$5:$P$34) | D7: =SUMIF('月謝管理表'!$R$5:$R$34,"振込",'月謝管理表'!$P$5:$P$34) | E7: =SUMIF('月謝管理表'!$R$5:$R$34,"PayPay",'月謝管理表'!$P$5:$P$34) | F7: =IF(DATE('月謝管理表'!$B$2,7,1)>TODAY(),"",SUMPRODUCT(('月謝管理表'!$C$5:$C$34<>"")*('月謝管理表'!$P$5:$P$34="")*ISERROR(SEARCH("休会",'月謝管理表'!$S$5:$S$34))))
A8: 8月 | B8: =SUM('月謝管理表'!$T$5:$T$34) | C8: =SUMIF('月謝管理表'!$V$5:$V$34,"現金",'月謝管理表'!$T$5:$T$34) | D8: =SUMIF('月謝管理表'!$V$5:$V$34,"振込",'月謝管理表'!$T$5:$T$34) | E8: =SUMIF('月謝管理表'!$V$5:$V$34,"PayPay",'月謝管理表'!$T$5:$T$34) | F8: =IF(DATE('月謝管理表'!$B$2,8,1)>TODAY(),"",SUMPRODUCT(('月謝管理表'!$C$5:$C$34<>"")*('月謝管理表'!$T$5:$T$34="")*ISERROR(SEARCH("休会",'月謝管理表'!$W$5:$W$34))))
A9: 9月 | B9: =SUM('月謝管理表'!$X$5:$X$34) | C9: =SUMIF('月謝管理表'!$Z$5:$Z$34,"現金",'月謝管理表'!$X$5:$X$34) | D9: =SUMIF('月謝管理表'!$Z$5:$Z$34,"振込",'月謝管理表'!$X$5:$X$34) | E9: =SUMIF('月謝管理表'!$Z$5:$Z$34,"PayPay",'月謝管理表'!$X$5:$X$34) | F9: =IF(DATE('月謝管理表'!$B$2,9,1)>TODAY(),"",SUMPRODUCT(('月謝管理表'!$C$5:$C$34<>"")*('月謝管理表'!$X$5:$X$34="")*ISERROR(SEARCH("休会",'月謝管理表'!$AA$5:$AA$34))))
A10: 10月 | B10: =SUM('月謝管理表'!$AB$5:$AB$34) | C10: =SUMIF('月謝管理表'!$AD$5:$AD$34,"現金",'月謝管理表'!$AB$5:$AB$34) | D10: =SUMIF('月謝管理表'!$AD$5:$AD$34,"振込",'月謝管理表'!$AB$5:$AB$34) | E10: =SUMIF('月謝管理表'!$AD$5:$AD$34,"PayPay",'月謝管理表'!$AB$5:$AB$34) | F10: =IF(DATE('月謝管理表'!$B$2,10,1)>TODAY(),"",SUMPRODUCT(('月謝管理表'!$C$5:$C$34<>"")*('月謝管理表'!$AB$5:$AB$34="")*ISERROR(SEARCH("休会",'月謝管理表'!$AE$5:$AE$34))))
A11: 11月 | B11: =SUM('月謝管理表'!$AF$5:$AF$34) | C11: =SUMIF('月謝管理表'!$AH$5:$AH$34,"現金",'月謝管理表'!$AF$5:$AF$34) | D11: =SUMIF('月謝管理表'!$AH$5:$AH$34,"振込",'月謝管理表'!$AF$5:$AF$34) | E11: =SUMIF('月謝管理表'!$AH$5:$AH$34,"PayPay",'月謝管理表'!$AF$5:$AF$34) | F11: =IF(DATE('月謝管理表'!$B$2,11,1)>TODAY(),"",SUMPRODUCT(('月謝管理表'!$C$5:$C$34<>"")*('月謝管理表'!$AF$5:$AF$34="")*ISERROR(SEARCH("休会",'月謝管理表'!$AI$5:$AI$34))))
A12: 12月 | B12: =SUM('月謝管理表'!$AJ$5:$AJ$34) | C12: =SUMIF('月謝管理表'!$AL$5:$AL$34,"現金",'月謝管理表'!$AJ$5:$AJ$34) | D12: =SUMIF('月謝管理表'!$AL$5:$AL$34,"振込",'月謝管理表'!$AJ$5:$AJ$34) | E12: =SUMIF('月謝管理表'!$AL$5:$AL$34,"PayPay",'月謝管理表'!$AJ$5:$AJ$34) | F12: =IF(DATE('月謝管理表'!$B$2,12,1)>TODAY(),"",SUMPRODUCT(('月謝管理表'!$C$5:$C$34<>"")*('月謝管理表'!$AJ$5:$AJ$34="")*ISERROR(SEARCH("休会",'月謝管理表'!$AM$5:$AM$34))))
A13: 1月 | B13: =SUM('月謝管理表'!$AN$5:$AN$34) | C13: =SUMIF('月謝管理表'!$AP$5:$AP$34,"現金",'月謝管理表'!$AN$5:$AN$34) | D13: =SUMIF('月謝管理表'!$AP$5:$AP$34,"振込",'月謝管理表'!$AN$5:$AN$34) | E13: =SUMIF('月謝管理表'!$AP$5:$AP$34,"PayPay",'月謝管理表'!$AN$5:$AN$34) | F13: =IF(DATE('月謝管理表'!$B$2,13,1)>TODAY(),"",SUMPRODUCT(('月謝管理表'!$C$5:$C$34<>"")*('月謝管理表'!$AN$5:$AN$34="")*ISERROR(SEARCH("休会",'月謝管理表'!$AQ$5:$AQ$34))))
A14: 2月 | B14: =SUM('月謝管理表'!$AR$5:$AR$34) | C14: =SUMIF('月謝管理表'!$AT$5:$AT$34,"現金",'月謝管理表'!$AR$5:$AR$34) | D14: =SUMIF('月謝管理表'!$AT$5:$AT$34,"振込",'月謝管理表'!$AR$5:$AR$34) | E14: =SUMIF('月謝管理表'!$AT$5:$AT$34,"PayPay",'月謝管理表'!$AR$5:$AR$34) | F14: =IF(DATE('月謝管理表'!$B$2,14,1)>TODAY(),"",SUMPRODUCT(('月謝管理表'!$C$5:$C$34<>"")*('月謝管理表'!$AR$5:$AR$34="")*ISERROR(SEARCH("休会",'月謝管理表'!$AU$5:$AU$34))))
A15: 3月 | B15: =SUM('月謝管理表'!$AV$5:$AV$34) | C15: =SUMIF('月謝管理表'!$AX$5:$AX$34,"現金",'月謝管理表'!$AV$5:$AV$34) | D15: =SUMIF('月謝管理表'!$AX$5:$AX$34,"振込",'月謝管理表'!$AV$5:$AV$34) | E15: =SUMIF('月謝管理表'!$AX$5:$AX$34,"PayPay",'月謝管理表'!$AV$5:$AV$34) | F15: =IF(DATE('月謝管理表'!$B$2,15,1)>TODAY(),"",SUMPRODUCT(('月謝管理表'!$C$5:$C$34<>"")*('月謝管理表'!$AV$5:$AV$34="")*ISERROR(SEARCH("休会",'月謝管理表'!$AY$5:$AY$34))))
A16: 合計 | B16: =SUM(B4:B15) | C16: =SUM(C4:C15) | D16: =SUM(D4:D15) | E16: =SUM(E4:E15)
A18: ※「方法」が空欄の受け取りは、受け取り合計にだけ入ります。

Sheet 使い方
A1: 月謝管理表の使い方
A3: ■ はじめに
A4: 「月謝管理表」シートのB2に、年度のはじまりの年（4月の年）を入れます。表は4月から翌年3月までの1年分です。
A5: 生徒名と月額（毎月いただく金額）を入れます。色のついた2行は記入例なので、消してからお使いください。
A6: ■ 受け取ったとき
A7: その月の「金額」に受け取った金額、「受取日」に日付（例：4/6）を入れ、「方法」を 現金・振込・PayPay から選びます。
A8: ■ 未納の見つけ方
A9: 月がはじまっても金額が空欄のマスは、赤くなります。月額より少ない金額のマスは、オレンジになります。
A10: 右端の「未納の月」に、まだ受け取っていない月の数が出ます。
A11: ■ 休会・兄弟割引・振替
A12: 休会の月は、メモに「休会」と書くと赤くなりません。
A13: 兄弟割引などで金額が違う方は、月額の欄をその方の金額にしておきます。
... A18: お教室の運営ガイド：https://gazeboplus.jp/guide/
